BEGIN:VCALENDAR
VERSION:2.0
CALSCALE:GREGORIAN
BEGIN:VEVENT
DTSTAMP:20260423T104518
DTSTART:20221204T120000
DTEND:20221204T140000
SUMMARY:Bravery Wines Comfort Food Wine Pairing
DESCRIPTION:Event Info: https://www.localwineevents.com/view/event/bravery-wines-comfort-food-wine-pairing/814177
LOCATION:My Wine and Cheese Bar Too -- 400 packets landing Fairport, NY 14450
STATUS:CONFIRMED
SEQUENCE:0
TRANSP:OPAQUE
END:VEVENT
END:VCALENDAR
