BEGIN:VCALENDAR
VERSION:2.0
CALSCALE:GREGORIAN
BEGIN:VEVENT
DTSTAMP:20260422T081310
DTSTART:20221105T140000
DTEND:20221127T170000
SUMMARY:Local Wine Tasting  Live Music At Ramona Ranch Winery
DESCRIPTION:Event Info: https://www.localwineevents.com/view/event/local-wine-tasting-live-music-at-ramona-ranch-winery/812416
LOCATION:Ramona Ranch Winery -- 23578 Highway 78 Ramona, CA 92065
STATUS:CONFIRMED
SEQUENCE:0
TRANSP:OPAQUE
END:VEVENT
END:VCALENDAR
