BEGIN:VCALENDAR
VERSION:2.0
CALSCALE:GREGORIAN
BEGIN:VEVENT
DTSTAMP:20260423T104542
DTSTART:20221103T180000
DTEND:20221103T210000
SUMMARY:High West Whiskey Pairing Dinner At Sand Bar
DESCRIPTION:Event Info: https://www.localwineevents.com/view/event/high-west-whiskey-pairing-dinner-at-sand-bar/811914
LOCATION:The Lake House on Canandaigua -- 770 South Main Street Canandaigua, NY 14424
STATUS:CONFIRMED
SEQUENCE:0
TRANSP:OPAQUE
END:VEVENT
END:VCALENDAR
