BEGIN:VCALENDAR
VERSION:2.0
CALSCALE:GREGORIAN
BEGIN:VEVENT
DTSTAMP:20260423T104406
DTSTART:20221111T180000
DTEND:20221111T193000
SUMMARY:Food  Wine Pairing: Holiday Host Edition With Chef Dan Eaton
DESCRIPTION:Event Info: https://www.localwineevents.com/view/event/food-wine-pairing-holiday-host-edition-with-chef-dan-eaton/811883
LOCATION:Point of the Bluff Vineyards -- 10489 County Road 76 Hammondsport, NY 14840
STATUS:CONFIRMED
SEQUENCE:0
TRANSP:OPAQUE
END:VEVENT
END:VCALENDAR
