BEGIN:VCALENDAR
VERSION:2.0
CALSCALE:GREGORIAN
BEGIN:VEVENT
DTSTAMP:20260423T235851
DTSTART:20221125T183000
DTEND:20221125T210000
SUMMARY:Last Chance For Vine  Dine At The Always Excellent Flower  Wolf!
DESCRIPTION:Event Info: https://www.localwineevents.com/view/event/last-chance-for-vine-dine-at-the-always-excellent-flower-wolf/810055
LOCATION:Flower  Wolf -- 255 Barclay Parade SW Calgary, Alberta T2P 5C2
STATUS:CONFIRMED
SEQUENCE:0
TRANSP:OPAQUE
END:VEVENT
END:VCALENDAR
