BEGIN:VCALENDAR
VERSION:2.0
CALSCALE:GREGORIAN
BEGIN:VEVENT
DTSTAMP:20260420T084909
DTSTART:20220913T190000
DTEND:20220913T220000
SUMMARY:Toledo, OH - East Coast Seafood Fest
DESCRIPTION:Event Info: https://www.localwineevents.com/view/event/toledo-oh---east-coast-seafood-fest/804457
LOCATION:Cooper\'s Hawk Winery  Restaurants -- 4705 Talmadge Road Toledo, OH 43623
STATUS:CONFIRMED
SEQUENCE:0
TRANSP:OPAQUE
END:VEVENT
END:VCALENDAR
