BEGIN:VCALENDAR
VERSION:2.0
CALSCALE:GREGORIAN
BEGIN:VEVENT
DTSTAMP:20260423T115728
DTSTART:20220813T110000
DTEND:20220813T180000
SUMMARY:2022 Vino And The Beasts 5K Run With Obstacles - Finger Lakes, NY
DESCRIPTION:Event Info: https://www.localwineevents.com/view/event/2022-vino-and-the-beasts-5k-run-with-obstacles---finger-lakes-ny/803960
LOCATION:Three Brothers Wineries and Estates -- 623 Lerch Road Geneva, NY 14456
STATUS:CONFIRMED
SEQUENCE:0
TRANSP:OPAQUE
END:VEVENT
END:VCALENDAR
