BEGIN:VCALENDAR
VERSION:2.0
CALSCALE:GREGORIAN
BEGIN:VEVENT
DTSTAMP:20260423T120525
DTSTART:20220723T120000
DTEND:20220723T160000
SUMMARY:Rock Stream Winery Music  Food Fest, Sat. July 23rd, Free Admission
DESCRIPTION:Event Info: https://www.localwineevents.com/view/event/rock-stream-winery-music-food-fest-sat-july-23rd-free-admission/802527
LOCATION:Rock Stream Vineyards -- 162 Fir Tree Point Rd Rock Stream, NY 14878
STATUS:CONFIRMED
SEQUENCE:0
TRANSP:OPAQUE
END:VEVENT
END:VCALENDAR
