BEGIN:VCALENDAR
VERSION:2.0
CALSCALE:GREGORIAN
BEGIN:VEVENT
DTSTAMP:20260424T045106
DTSTART:20220825T183000
DTEND:20220831T210000
SUMMARY:Vine  Dine At The New Mot To!
DESCRIPTION:Event Info: https://www.localwineevents.com/view/event/vine-dine-at-the-new-mot-to/801779
LOCATION:Mot To -- 1609 Centre Street NW Calgary, Alberta T2E 2S2
STATUS:CONFIRMED
SEQUENCE:0
TRANSP:OPAQUE
END:VEVENT
END:VCALENDAR
