BEGIN:VCALENDAR
VERSION:2.0
CALSCALE:GREGORIAN
BEGIN:VEVENT
DTSTAMP:20260421T132421
DTSTART:20220518T190000
DTEND:20220518T214500
SUMMARY:Monticello Vineyards (Napa Valley) Winemaker Dinner In Culver City
DESCRIPTION:Event Info: https://www.localwineevents.com/view/event/monticello-vineyards-napa-valley-winemaker-dinner-in-culver-city/799776
LOCATION:El Rincon Criollo -- 4361 Sepulveda Blvd. Culver City, CA 90230
STATUS:CONFIRMED
SEQUENCE:0
TRANSP:OPAQUE
END:VEVENT
END:VCALENDAR
