BEGIN:VCALENDAR
VERSION:2.0
CALSCALE:GREGORIAN
BEGIN:VEVENT
DTSTAMP:20260421T132333
DTSTART:20220521T090000
DTEND:20220521T141500
SUMMARY:WSET Level 1 Award In Wines Online  Live
DESCRIPTION:Event Info: https://www.localwineevents.com/view/class/wset-level-1-award-in-wines-online-live/799596
LOCATION:
STATUS:CONFIRMED
SEQUENCE:0
TRANSP:OPAQUE
END:VEVENT
END:VCALENDAR
