BEGIN:VCALENDAR
VERSION:2.0
CALSCALE:GREGORIAN
BEGIN:VEVENT
DTSTAMP:20260421T132431
DTSTART:20220510T183000
DTEND:20220510T213000
SUMMARY:Chateau Pichon Longueville Comtesse De Lalande  Ramos Pinto Dinner
DESCRIPTION:Event Info: https://www.localwineevents.com/view/event/chateau-pichon-longueville-comtesse-de-lalande-ramos-pinto-dinner/799582
LOCATION:Wally\'s Santa Monica -- 214 Wilshire Blvd Santa Monica, CA 90401
STATUS:CONFIRMED
SEQUENCE:0
TRANSP:OPAQUE
END:VEVENT
END:VCALENDAR
