BEGIN:VCALENDAR
VERSION:2.0
CALSCALE:GREGORIAN
BEGIN:VEVENT
DTSTAMP:20260421T132332
DTSTART:20220511T190000
DTEND:20220511T200000
SUMMARY:Zoom Into Wine | Sherry Tasting By Lustau From Jerez, Spain
DESCRIPTION:Event Info: https://www.localwineevents.com/view/tasting/zoom-into-wine-sherry-tasting-by-lustau-from-jerez-spain/799482
LOCATION:
STATUS:CONFIRMED
SEQUENCE:0
TRANSP:OPAQUE
END:VEVENT
END:VCALENDAR
