BEGIN:VCALENDAR
VERSION:2.0
CALSCALE:GREGORIAN
BEGIN:VEVENT
DTSTAMP:20260421T132518
DTSTART:20220604T140000
DTEND:20220605T170000
SUMMARY:LAWineFest 2022
DESCRIPTION:Event Info: https://www.localwineevents.com/view/event/lawinefest-2022/799439
LOCATION:Harry Bridges Memorial Park -- 1126 Queens Hwy Long Beach, CA 90802
STATUS:CONFIRMED
SEQUENCE:0
TRANSP:OPAQUE
END:VEVENT
END:VCALENDAR
