BEGIN:VCALENDAR
VERSION:2.0
CALSCALE:GREGORIAN
BEGIN:VEVENT
DTSTAMP:20260421T133100
DTSTART:20220523T080000
DTEND:20220525T173000
SUMMARY:Introductory Sommelier Course And Exam / Certified Sommelier Exam
DESCRIPTION:Event Info: https://www.localwineevents.com/view/event/introductory-sommelier-course-and-exam-certified-sommelier-exam/799420
LOCATION:Del Friscos Double Eagle Steakhouse -- 10250 Santa Monica Blvd Los Angeles, CA 90067
STATUS:CONFIRMED
SEQUENCE:0
TRANSP:OPAQUE
END:VEVENT
END:VCALENDAR
