BEGIN:VCALENDAR
VERSION:2.0
CALSCALE:GREGORIAN
BEGIN:VEVENT
DTSTAMP:20260421T132422
DTSTART:20220522T120000
DTEND:20220522T170000
SUMMARY:9th Annual South Bay Beer  Wine Festival
DESCRIPTION:Event Info: https://www.localwineevents.com/view/event/9th-annual-south-bay-beer-wine-festival/799175
LOCATION:Ernie Howlett Park -- 25851 Hawthorne Blvd. Rolling Hills Estates, CA 90274
STATUS:CONFIRMED
SEQUENCE:0
TRANSP:OPAQUE
END:VEVENT
END:VCALENDAR
