BEGIN:VCALENDAR
VERSION:2.0
CALSCALE:GREGORIAN
BEGIN:VEVENT
DTSTAMP:20260421T132405
DTSTART:20220717T134500
DTEND:20220717T170000
SUMMARY:Sail On The Bay With Obsidian Wine Co.
DESCRIPTION:Event Info: https://www.localwineevents.com/view/event/sail-on-the-bay-with-obsidian-wine-co/799013
LOCATION:Freda B -- Sausalito Yacht Harbor, Slip 907 Sausalito, CA 94965
STATUS:CONFIRMED
SEQUENCE:0
TRANSP:OPAQUE
END:VEVENT
END:VCALENDAR
