BEGIN:VCALENDAR
VERSION:2.0
CALSCALE:GREGORIAN
BEGIN:VEVENT
DTSTAMP:20260421T132404
DTSTART:20220924T150000
DTEND:20220925T170000
SUMMARY:13th San Diego Spirits Festival - Sep 24-25 2022
DESCRIPTION:Event Info: https://www.localwineevents.com/view/event/13th-san-diego-spirits-festival---sep-24-25-2022/798952
LOCATION:Museum of Contemporary Art La Jolla -- 700 Prospect Street La Jolla, CA 92037
STATUS:CONFIRMED
SEQUENCE:0
TRANSP:OPAQUE
END:VEVENT
END:VCALENDAR
