BEGIN:VCALENDAR
VERSION:2.0
CALSCALE:GREGORIAN
BEGIN:VEVENT
DTSTAMP:20260421T132433
DTSTART:20220514T180000
DTEND:20220514T210000
SUMMARY:Tequila  Mezcal Festival At Resorts World Las Vegas
DESCRIPTION:Event Info: https://www.localwineevents.com/view/event/tequila-mezcal-festival-at-resorts-world-las-vegas/798416
LOCATION:Resorts World Las Vegas -- 3000 S Las Vegas Blvd Las Vegas, NV 89109
STATUS:CONFIRMED
SEQUENCE:0
TRANSP:OPAQUE
END:VEVENT
END:VCALENDAR
