BEGIN:VCALENDAR
VERSION:2.0
CALSCALE:GREGORIAN
BEGIN:VEVENT
DTSTAMP:20260422T133105
DTSTART:20221015T110000
DTEND:20221015T170000
SUMMARY:Camp Lavigne Wine Festival
DESCRIPTION:Event Info: https://www.localwineevents.com/view/event/camp-lavigne-wine-festival/798412
LOCATION:Camp Lavigne Wine Festival -- 35 Camp Lavigne Rd Benton, Pa 17814
STATUS:CONFIRMED
SEQUENCE:0
TRANSP:OPAQUE
END:VEVENT
END:VCALENDAR
