BEGIN:VCALENDAR
VERSION:2.0
CALSCALE:GREGORIAN
BEGIN:VEVENT
DTSTAMP:20260421T132403
DTSTART:20220430T090000
DTEND:20220430T141500
SUMMARY:WSET Level 1 Award In Wines Online  Live
DESCRIPTION:Event Info: https://www.localwineevents.com/view/class/wset-level-1-award-in-wines-online-live/798302
LOCATION:
STATUS:CONFIRMED
SEQUENCE:0
TRANSP:OPAQUE
END:VEVENT
END:VCALENDAR
