BEGIN:VCALENDAR
VERSION:2.0
CALSCALE:GREGORIAN
BEGIN:VEVENT
DTSTAMP:20260421T132420
DTSTART:20220629T000000
DTEND:20220629T000000
SUMMARY:Italys Emilia-Romagna Region, Gastronomic And Cultural Tour.
DESCRIPTION:Event Info: https://www.localwineevents.com/view/trip/italys-emilia-romagna-region-gastronomic-and-cultural-tour/798206
LOCATION:
STATUS:CONFIRMED
SEQUENCE:0
TRANSP:OPAQUE
END:VEVENT
END:VCALENDAR
