BEGIN:VCALENDAR
VERSION:2.0
CALSCALE:GREGORIAN
BEGIN:VEVENT
DTSTAMP:20260421T132332
DTSTART:20220802T000000
DTEND:20220802T000000
SUMMARY:5 Wine  Food PAIRING MISTAKES That Can RUIN Your Dinner ;)
DESCRIPTION:Event Info: https://www.localwineevents.com/view/tasting/5-wine-food-pairing-mistakes-that-can-ruin-your-dinner-/797335
LOCATION:
STATUS:CONFIRMED
SEQUENCE:0
TRANSP:OPAQUE
END:VEVENT
END:VCALENDAR
