BEGIN:VCALENDAR
VERSION:2.0
CALSCALE:GREGORIAN
BEGIN:VEVENT
DTSTAMP:20260421T133903
DTSTART:20221007T000000
DTEND:20221007T000000
SUMMARY:Emilia Romagna -Sommelier Led Tour Of Italy\'s Food  Motor Valley 10 Days
DESCRIPTION:Event Info: https://www.localwineevents.com/view/trip/emilia-romagna--sommelier-led-tour-of-italys-food-motor-valley-10-days/796707
LOCATION:
STATUS:CONFIRMED
SEQUENCE:0
TRANSP:OPAQUE
END:VEVENT
END:VCALENDAR
