BEGIN:VCALENDAR
VERSION:2.0
CALSCALE:GREGORIAN
BEGIN:VEVENT
DTSTAMP:20260422T030820
DTSTART:20220226T130000
DTEND:20220226T160000
SUMMARY:Calistoga Wine Experience | SF
DESCRIPTION:Event Info: https://www.localwineevents.com/view/event/calistoga-wine-experience-sf/796525
LOCATION:The Presidio Golden Gate Club -- 135 Fisher Loop San Francisco, CA 94129
STATUS:CONFIRMED
SEQUENCE:0
TRANSP:OPAQUE
END:VEVENT
END:VCALENDAR
