BEGIN:VCALENDAR
VERSION:2.0
CALSCALE:GREGORIAN
BEGIN:VEVENT
DTSTAMP:20260421T132403
DTSTART:20220521T000000
DTEND:20220521T000000
SUMMARY:Level One Wine Course Online
DESCRIPTION:Event Info: https://www.localwineevents.com/view/class/level-one-wine-course-online/795663
LOCATION:
STATUS:CONFIRMED
SEQUENCE:0
TRANSP:OPAQUE
END:VEVENT
END:VCALENDAR
