BEGIN:VCALENDAR
VERSION:2.0
CALSCALE:GREGORIAN
BEGIN:VEVENT
DTSTAMP:20260422T162613
DTSTART:20220419T000000
DTEND:20220419T000000
SUMMARY:Toscana With Me -Sommelier Led Food  Wine Small Group Tour - 3 SPOTS LEFT
DESCRIPTION:Event Info: https://www.localwineevents.com/view/trip/toscana-with-me--sommelier-led-food-wine-small-group-tour---3-spots-left/795218
LOCATION:
STATUS:CONFIRMED
SEQUENCE:0
TRANSP:OPAQUE
END:VEVENT
END:VCALENDAR
