BEGIN:VCALENDAR
VERSION:2.0
CALSCALE:GREGORIAN
BEGIN:VEVENT
DTSTAMP:20260421T132403
DTSTART:20220723T000000
DTEND:20220723T000000
SUMMARY:Enticing Douro
DESCRIPTION:Event Info: https://www.localwineevents.com/view/trip/enticing-douro/795209
LOCATION:
STATUS:CONFIRMED
SEQUENCE:0
TRANSP:OPAQUE
END:VEVENT
END:VCALENDAR
