BEGIN:VCALENDAR
VERSION:2.0
CALSCALE:GREGORIAN
BEGIN:VEVENT
DTSTAMP:20260423T104347
DTSTART:20211106T120000
DTEND:20211106T170000
SUMMARY:Rock Stream Winery Fall Chili Fest, Sat. Nov. 6th, Free Admission
DESCRIPTION:Event Info: https://www.localwineevents.com/view/event/rock-stream-winery-fall-chili-fest-sat-nov-6th-free-admission/795199
LOCATION:Rock Stream Vineyards -- 162 Fir Tree Point Rd Rock Stream, NY 14878
STATUS:CONFIRMED
SEQUENCE:0
TRANSP:OPAQUE
END:VEVENT
END:VCALENDAR
