BEGIN:VCALENDAR
VERSION:2.0
CALSCALE:GREGORIAN
BEGIN:VEVENT
DTSTAMP:20260421T132519
DTSTART:20220501T000000
DTEND:20220501T000000
SUMMARY:Book A Bespoke Wine Tasting With Petite Wine Traveler
DESCRIPTION:Event Info: https://www.localwineevents.com/view/tasting/book-a-bespoke-wine-tasting-with-petite-wine-traveler/795195
LOCATION:
STATUS:CONFIRMED
SEQUENCE:0
TRANSP:OPAQUE
END:VEVENT
END:VCALENDAR
