BEGIN:VCALENDAR
VERSION:2.0
CALSCALE:GREGORIAN
BEGIN:VEVENT
DTSTAMP:20260422T162724
DTSTART:20211110T180000
DTEND:20211110T190000
SUMMARY:Virtual Meet The Winemaker - What\'s So Cool About Cool Climate Pinot
DESCRIPTION:Event Info: https://www.localwineevents.com/view/tasting/virtual-meet-the-winemaker---whats-so-cool-about-cool-climate-pinot/794971
LOCATION:
STATUS:CONFIRMED
SEQUENCE:0
TRANSP:OPAQUE
END:VEVENT
END:VCALENDAR
