BEGIN:VCALENDAR
VERSION:2.0
CALSCALE:GREGORIAN
BEGIN:VEVENT
DTSTAMP:20260422T231145
DTSTART:20211030T120000
DTEND:20211030T180000
SUMMARY:Dog Halloween Costume Event
DESCRIPTION:Event Info: https://www.localwineevents.com/view/event/dog-halloween-costume-event/794778
LOCATION:Gard Vintners Woodinville Tasting Room -- 19495 144th Ave. NE, Suite B240 Woodinville, WA 98072
STATUS:CONFIRMED
SEQUENCE:0
TRANSP:OPAQUE
END:VEVENT
END:VCALENDAR
