BEGIN:VCALENDAR
VERSION:2.0
CALSCALE:GREGORIAN
BEGIN:VEVENT
DTSTAMP:20260421T132433
DTSTART:20221002T000000
DTEND:20221002T000000
SUMMARY:Sprezzatura! Fall Foodies Edition October 2 - 9, 2022
DESCRIPTION:Event Info: https://www.localwineevents.com/view/trip/sprezzatura-fall-foodies-edition-october-2---9-2022/794710
LOCATION:
STATUS:CONFIRMED
SEQUENCE:0
TRANSP:OPAQUE
END:VEVENT
END:VCALENDAR
