BEGIN:VCALENDAR
VERSION:2.0
CALSCALE:GREGORIAN
BEGIN:VEVENT
DTSTAMP:20260422T162608
DTSTART:20211111T183000
DTEND:20211111T213000
SUMMARY:WSET Level 2 Award In Wines - Online  Live
DESCRIPTION:Event Info: https://www.localwineevents.com/view/class/wset-level-2-award-in-wines---online-live/794652
LOCATION:
STATUS:CONFIRMED
SEQUENCE:0
TRANSP:OPAQUE
END:VEVENT
END:VCALENDAR
