BEGIN:VCALENDAR
VERSION:2.0
CALSCALE:GREGORIAN
BEGIN:VEVENT
DTSTAMP:20260422T163931
DTSTART:20211119T090000
DTEND:20211119T160000
SUMMARY:WSET Level 2 Award In Wines Intensive Course - Online  Live
DESCRIPTION:Event Info: https://www.localwineevents.com/view/class/wset-level-2-award-in-wines-intensive-course---online-live/794651
LOCATION:
STATUS:CONFIRMED
SEQUENCE:0
TRANSP:OPAQUE
END:VEVENT
END:VCALENDAR
