BEGIN:VCALENDAR
VERSION:2.0
CALSCALE:GREGORIAN
BEGIN:VEVENT
DTSTAMP:20260422T231110
DTSTART:20211020T180000
DTEND:20211020T190000
SUMMARY:Meet The Winemaker - Building A Woman Led Winery
DESCRIPTION:Event Info: https://www.localwineevents.com/view/tasting/meet-the-winemaker---building-a-woman-led-winery/794515
LOCATION:
STATUS:CONFIRMED
SEQUENCE:0
TRANSP:OPAQUE
END:VEVENT
END:VCALENDAR
