BEGIN:VCALENDAR
VERSION:2.0
CALSCALE:GREGORIAN
BEGIN:VEVENT
DTSTAMP:20260422T230044
DTSTART:20211028T190000
DTEND:20211028T200000
SUMMARY:Witch Wine Is Which? A Fun And FREE Virtual Tasting
DESCRIPTION:Event Info: https://www.localwineevents.com/view/tasting/witch-wine-is-which-a-fun-and-free-virtual-tasting/794430
LOCATION:
STATUS:CONFIRMED
SEQUENCE:0
TRANSP:OPAQUE
END:VEVENT
END:VCALENDAR
