BEGIN:VCALENDAR
VERSION:2.0
CALSCALE:GREGORIAN
BEGIN:VEVENT
DTSTAMP:20260422T162729
DTSTART:20211112T170000
DTEND:20211112T183000
SUMMARY:Bubbles  Brie: Champagne For All
DESCRIPTION:Event Info: https://www.localwineevents.com/view/class/bubbles-brie-champagne-for-all/794226
LOCATION:
STATUS:CONFIRMED
SEQUENCE:0
TRANSP:OPAQUE
END:VEVENT
END:VCALENDAR
