BEGIN:VCALENDAR
VERSION:2.0
CALSCALE:GREGORIAN
BEGIN:VEVENT
DTSTAMP:20260423T104511
DTSTART:20210925T180000
DTEND:20210925T210000
SUMMARY:Woodstock, Tom Petty  Phil Collins Music Tributes At Beerocracy Brewery
DESCRIPTION:Event Info: https://www.localwineevents.com/view/event/woodstock-tom-petty-phil-collins-music-tributes-at-beerocracy-brewery/794107
LOCATION:Beerocracy Brewery -- 4520 Route 14 Rock Stream, NY 14878
STATUS:CONFIRMED
SEQUENCE:0
TRANSP:OPAQUE
END:VEVENT
END:VCALENDAR
