BEGIN:VCALENDAR
VERSION:2.0
CALSCALE:GREGORIAN
BEGIN:VEVENT
DTSTAMP:20260422T231110
DTSTART:20211216T173000
DTEND:20211216T203000
SUMMARY:The Lounge At DeLille Cellars - Live Music
DESCRIPTION:Event Info: https://www.localwineevents.com/view/event/the-lounge-at-delille-cellars---live-music/794014
LOCATION:The Lounge at DeLille Cellars -- 14300 NE 145th St Suite 100 Woodinville, WA 98072
STATUS:CONFIRMED
SEQUENCE:0
TRANSP:OPAQUE
END:VEVENT
END:VCALENDAR
