BEGIN:VCALENDAR
VERSION:2.0
CALSCALE:GREGORIAN
BEGIN:VEVENT
DTSTAMP:20260422T162614
DTSTART:20211110T200000
DTEND:20211110T210000
SUMMARY:Slow Food USA Presents Sustainable Living With TILIA Wines: People Matter
DESCRIPTION:Event Info: https://www.localwineevents.com/view/tasting/slow-food-usa-presents-sustainable-living-with-tilia-wines-people-matter/793841
LOCATION:
STATUS:CONFIRMED
SEQUENCE:0
TRANSP:OPAQUE
END:VEVENT
END:VCALENDAR
