BEGIN:VCALENDAR
VERSION:2.0
CALSCALE:GREGORIAN
BEGIN:VEVENT
DTSTAMP:20260423T101728
DTSTART:20210911T123000
DTEND:20210911T153000
SUMMARY:Sons Of A Beach At Buttonwood Grove Winery, Sat. Sept. 11, Free Admission
DESCRIPTION:Event Info: https://www.localwineevents.com/view/event/sons-of-a-beach-at-buttonwood-grove-winery-sat-sept-11-free-admission/793805
LOCATION:Buttonwood Grove Winery -- 5986 NY 89 Romulus, NY 14541
STATUS:CONFIRMED
SEQUENCE:0
TRANSP:OPAQUE
END:VEVENT
END:VCALENDAR
