BEGIN:VCALENDAR
VERSION:2.0
CALSCALE:GREGORIAN
BEGIN:VEVENT
DTSTAMP:20260422T231145
DTSTART:20211007T160000
DTEND:20211007T171500
SUMMARY:How To Taste Wine Like A Pro!
DESCRIPTION:Event Info: https://www.localwineevents.com/view/class/how-to-taste-wine-like-a-pro/793616
LOCATION:
STATUS:CONFIRMED
SEQUENCE:0
TRANSP:OPAQUE
END:VEVENT
END:VCALENDAR
