BEGIN:VCALENDAR
VERSION:2.0
CALSCALE:GREGORIAN
BEGIN:VEVENT
DTSTAMP:20260422T162606
DTSTART:20220327T000000
DTEND:20220327T000000
SUMMARY:Essence Of Burgundy And Provence Wine Cruise
DESCRIPTION:Event Info: https://www.localwineevents.com/view/trip/essence-of-burgundy-and-provence-wine-cruise/793489
LOCATION:
STATUS:CONFIRMED
SEQUENCE:0
TRANSP:OPAQUE
END:VEVENT
END:VCALENDAR
