BEGIN:VCALENDAR
VERSION:2.0
CALSCALE:GREGORIAN
BEGIN:VEVENT
DTSTAMP:20260422T230137
DTSTART:20211030T090000
DTEND:20211030T141500
SUMMARY:WSET Level 1 Award In Wines Online  Live
DESCRIPTION:Event Info: https://www.localwineevents.com/view/class/wset-level-1-award-in-wines-online-live/793409
LOCATION:
STATUS:CONFIRMED
SEQUENCE:0
TRANSP:OPAQUE
END:VEVENT
END:VCALENDAR
