BEGIN:VCALENDAR
VERSION:2.0
CALSCALE:GREGORIAN
BEGIN:VEVENT
DTSTAMP:20260422T162612
DTSTART:20210925T190000
DTEND:20211120T190000
SUMMARY:Virtual Charcuterie Class
DESCRIPTION:Event Info: https://www.localwineevents.com/view/class/virtual-charcuterie-class/792960
LOCATION:
STATUS:CONFIRMED
SEQUENCE:0
TRANSP:OPAQUE
END:VEVENT
END:VCALENDAR
