BEGIN:VCALENDAR
VERSION:2.0
CALSCALE:GREGORIAN
BEGIN:VEVENT
DTSTAMP:20260421T132421
DTSTART:20220518T000000
DTEND:20220518T000000
SUMMARY:Exploring The Flavors Of Provence With A Chef -- MULTIPLE DEPARTURES
DESCRIPTION:Event Info: https://www.localwineevents.com/view/trip/exploring-the-flavors-of-provence-with-a-chef----multiple-departures/792787
LOCATION:
STATUS:CONFIRMED
SEQUENCE:0
TRANSP:OPAQUE
END:VEVENT
END:VCALENDAR
