BEGIN:VCALENDAR
VERSION:2.0
CALSCALE:GREGORIAN
BEGIN:VEVENT
DTSTAMP:20260421T132420
DTSTART:20221005T000000
DTEND:20221005T000000
SUMMARY:The Spirit Of Northern Spain With A Master Of Wine - MULTIPLE DEPARTURES
DESCRIPTION:Event Info: https://www.localwineevents.com/view/trip/the-spirit-of-northern-spain-with-a-master-of-wine---multiple-departures/792786
LOCATION:
STATUS:CONFIRMED
SEQUENCE:0
TRANSP:OPAQUE
END:VEVENT
END:VCALENDAR
