BEGIN:VCALENDAR
VERSION:2.0
CALSCALE:GREGORIAN
BEGIN:VEVENT
DTSTAMP:20260421T132432
DTSTART:20220707T000000
DTEND:20220707T000000
SUMMARY:Sommelier-Led Private Group Bordeaux River Cruise
DESCRIPTION:Event Info: https://www.localwineevents.com/view/trip/sommelier-led-private-group-bordeaux-river-cruise/792318
LOCATION:
STATUS:CONFIRMED
SEQUENCE:0
TRANSP:OPAQUE
END:VEVENT
END:VCALENDAR
