BEGIN:VCALENDAR
VERSION:2.0
CALSCALE:GREGORIAN
BEGIN:VEVENT
DTSTAMP:20260423T103429
DTSTART:20210627T120000
DTEND:20210627T160000
SUMMARY:Dogs  Dogs
DESCRIPTION:Event Info: https://www.localwineevents.com/view/event/dogs-dogs/791302
LOCATION:Fox Run Vineyards -- 670 State Route 14 Penn Yan, NY 14527
STATUS:CONFIRMED
SEQUENCE:0
TRANSP:OPAQUE
END:VEVENT
END:VCALENDAR
